BEGIN:VCALENDAR
VERSION:2.0
PRODID:-//Lyon Chapter France - ECPv6.15.18//NONSGML v1.0//EN
CALSCALE:GREGORIAN
METHOD:PUBLISH
X-WR-CALNAME:Lyon Chapter France
X-ORIGINAL-URL:https://lyonchapterfrance.com
X-WR-CALDESC:Évènements pour Lyon Chapter France
REFRESH-INTERVAL;VALUE=DURATION:PT1H
X-Robots-Tag:noindex
X-PUBLISHED-TTL:PT1H
BEGIN:VTIMEZONE
TZID:Europe/Paris
BEGIN:DAYLIGHT
TZOFFSETFROM:+0100
TZOFFSETTO:+0200
TZNAME:CEST
DTSTART:20250330T010000
END:DAYLIGHT
BEGIN:STANDARD
TZOFFSETFROM:+0200
TZOFFSETTO:+0100
TZNAME:CET
DTSTART:20251026T010000
END:STANDARD
BEGIN:DAYLIGHT
TZOFFSETFROM:+0100
TZOFFSETTO:+0200
TZNAME:CEST
DTSTART:20260329T010000
END:DAYLIGHT
BEGIN:STANDARD
TZOFFSETFROM:+0200
TZOFFSETTO:+0100
TZNAME:CET
DTSTART:20261025T010000
END:STANDARD
BEGIN:DAYLIGHT
TZOFFSETFROM:+0100
TZOFFSETTO:+0200
TZNAME:CEST
DTSTART:20270328T010000
END:DAYLIGHT
BEGIN:STANDARD
TZOFFSETFROM:+0200
TZOFFSETTO:+0100
TZNAME:CET
DTSTART:20271031T010000
END:STANDARD
END:VTIMEZONE
BEGIN:VEVENT
DTSTART;TZID=Europe/Paris:20260426T090000
DTEND;TZID=Europe/Paris:20260426T173000
DTSTAMP:20260426T022644
CREATED:20260125T142614Z
LAST-MODIFIED:20260128T202304Z
UID:23706-1777194000-1777224600@lyonchapterfrance.com
SUMMARY:Une journée Viennoise avec d'anciennes Porsche et nos Harley
DESCRIPTION:Journée caritative avec le Lions club de Vienne et l’association” Rêves” pour réaliser les rêves d’enfants malades. \nRRC : Jean François Brohet / jeanfrancoisbrohet@gmail.com \n45 participants (environ 45 motos)\nParade d’Harley et Porsche le matin à Vienne et Baptêmes l’après midi\n(accueil des membres du LCF entre 09h00 et 10h00 maxi)\nPetit déjeuner et repas de midi inclus\nN’oubliez pas de vous munir d’un casque et de gants que vous pourrez prêter aux personnes que vous emmènerez pour les baptêmes. Des « Charlottes hygiéniques » seront à disposition sur place.\nRendez vous entre 9H et 10H à l’Espace Saint Germain\, 30 avenue Général Leclerc 38200 VIENNE\nPrix : 33 € / personne\n \nClassement :
URL:https://lyonchapterfrance.com/savethedate/une-journee-viennoise-avec-danciennes-porsche-et-nos-harley-2/
LOCATION:Espace Saint Germain\, 30 avenue Général Leclerc 38200 VIENNE
CATEGORIES:Caritatif
END:VEVENT
END:VCALENDAR