BEGIN:VCALENDAR
VERSION:2.0
PRODID:-//Lyon Chapter France - ECPv6.15.18//NONSGML v1.0//EN
CALSCALE:GREGORIAN
METHOD:PUBLISH
X-ORIGINAL-URL:https://lyonchapterfrance.com
X-WR-CALDESC:Évènements pour Lyon Chapter France
REFRESH-INTERVAL;VALUE=DURATION:PT1H
X-Robots-Tag:noindex
X-PUBLISHED-TTL:PT1H
BEGIN:VTIMEZONE
TZID:Europe/Paris
BEGIN:DAYLIGHT
TZOFFSETFROM:+0100
TZOFFSETTO:+0200
TZNAME:CEST
DTSTART:20220327T010000
END:DAYLIGHT
BEGIN:STANDARD
TZOFFSETFROM:+0200
TZOFFSETTO:+0100
TZNAME:CET
DTSTART:20221030T010000
END:STANDARD
BEGIN:DAYLIGHT
TZOFFSETFROM:+0100
TZOFFSETTO:+0200
TZNAME:CEST
DTSTART:20230326T010000
END:DAYLIGHT
BEGIN:STANDARD
TZOFFSETFROM:+0200
TZOFFSETTO:+0100
TZNAME:CET
DTSTART:20231029T010000
END:STANDARD
BEGIN:DAYLIGHT
TZOFFSETFROM:+0100
TZOFFSETTO:+0200
TZNAME:CEST
DTSTART:20240331T010000
END:DAYLIGHT
BEGIN:STANDARD
TZOFFSETFROM:+0200
TZOFFSETTO:+0100
TZNAME:CET
DTSTART:20241027T010000
END:STANDARD
END:VTIMEZONE
BEGIN:VEVENT
DTSTART;TZID=Europe/Paris:20231013T183000
DTEND;TZID=Europe/Paris:20231013T233000
DTSTAMP:20260423T180634
CREATED:20230927T150053Z
LAST-MODIFIED:20230927T151711Z
UID:8204-1697221800-1697239800@lyonchapterfrance.com
SUMMARY:Réunion mensuelle
DESCRIPTION:
URL:https://lyonchapterfrance.com/savethedate/reunion-mensuelle-2/
LOCATION:Les Marches\, 10\, route du Pérollier\, Dardilly\, 69570\, France
CATEGORIES:News,Réunion mensuelle
ATTACH;FMTTYPE=image/jpeg:https://lyonchapterfrance.com/wp-content/uploads/2023/04/2017-08-29.jpg
END:VEVENT
END:VCALENDAR