BEGIN:VCALENDAR
VERSION:2.0
PRODID:-//Lyon Chapter France - ECPv6.15.18//NONSGML v1.0//EN
CALSCALE:GREGORIAN
METHOD:PUBLISH
X-ORIGINAL-URL:https://lyonchapterfrance.com
X-WR-CALDESC:Évènements pour Lyon Chapter France
REFRESH-INTERVAL;VALUE=DURATION:PT1H
X-Robots-Tag:noindex
X-PUBLISHED-TTL:PT1H
BEGIN:VTIMEZONE
TZID:Europe/Paris
BEGIN:DAYLIGHT
TZOFFSETFROM:+0100
TZOFFSETTO:+0200
TZNAME:CEST
DTSTART:20230326T010000
END:DAYLIGHT
BEGIN:STANDARD
TZOFFSETFROM:+0200
TZOFFSETTO:+0100
TZNAME:CET
DTSTART:20231029T010000
END:STANDARD
BEGIN:DAYLIGHT
TZOFFSETFROM:+0100
TZOFFSETTO:+0200
TZNAME:CEST
DTSTART:20240331T010000
END:DAYLIGHT
BEGIN:STANDARD
TZOFFSETFROM:+0200
TZOFFSETTO:+0100
TZNAME:CET
DTSTART:20241027T010000
END:STANDARD
BEGIN:DAYLIGHT
TZOFFSETFROM:+0100
TZOFFSETTO:+0200
TZNAME:CEST
DTSTART:20250330T010000
END:DAYLIGHT
BEGIN:STANDARD
TZOFFSETFROM:+0200
TZOFFSETTO:+0100
TZNAME:CET
DTSTART:20251026T010000
END:STANDARD
END:VTIMEZONE
BEGIN:VEVENT
DTSTART;TZID=Europe/Paris:20241101T090000
DTEND;TZID=Europe/Paris:20241111T170000
DTSTAMP:20260424T061142
CREATED:20240125T192954Z
LAST-MODIFIED:20240626T165707Z
UID:17078-1730451600-1731344400@lyonchapterfrance.com
SUMMARY:J'aimerais tant voir SYRACUSE... mais pas que…
DESCRIPTION:Découverte de la Sicile. Son histoire\, son patrimoine culturel et gourmand\, ses paysages \nRRC : Philippe Patay / philippe.patay38@gmail.com / 06 09 82 80 93 \n28 participants\nDistance : 2.500 km\nHébergement : Nuits aller et retour en ferry\, puis sur place en hôtels\, 4 points de chute seulement = 2 nuits / 3 nuits / 2 nuits / 1 nuit\nRestauration : Demi-pension uniquement. Les déjeuners seront libres.\nPrix : environ 1.300 € / personne\nRèglement : 5 chèques d’acompte de 200 € par personne encaissables en janvier\, mars\, mai\, juillet\, septembre et le solde par chèque en octobre\, encaissé en novembre à l’issue de la sortie. Fournir pièce d’identité valide et carte grise véhicule.  \nClassement :
URL:https://lyonchapterfrance.com/savethedate/jaimerais-tant-voir-syracuse-mais-pas-que/
LOCATION:Parking Péage Saint Quentin Fallavier
CATEGORIES:Run
END:VEVENT
END:VCALENDAR