BEGIN:VCALENDAR
VERSION:2.0
PRODID:-//Lyon Chapter France - ECPv6.15.18//NONSGML v1.0//EN
CALSCALE:GREGORIAN
METHOD:PUBLISH
X-WR-CALNAME:Lyon Chapter France
X-ORIGINAL-URL:https://lyonchapterfrance.com
X-WR-CALDESC:Évènements pour Lyon Chapter France
REFRESH-INTERVAL;VALUE=DURATION:PT1H
X-Robots-Tag:noindex
X-PUBLISHED-TTL:PT1H
BEGIN:VTIMEZONE
TZID:Europe/Paris
BEGIN:DAYLIGHT
TZOFFSETFROM:+0100
TZOFFSETTO:+0200
TZNAME:CEST
DTSTART:20240331T010000
END:DAYLIGHT
BEGIN:STANDARD
TZOFFSETFROM:+0200
TZOFFSETTO:+0100
TZNAME:CET
DTSTART:20241027T010000
END:STANDARD
BEGIN:DAYLIGHT
TZOFFSETFROM:+0100
TZOFFSETTO:+0200
TZNAME:CEST
DTSTART:20250330T010000
END:DAYLIGHT
BEGIN:STANDARD
TZOFFSETFROM:+0200
TZOFFSETTO:+0100
TZNAME:CET
DTSTART:20251026T010000
END:STANDARD
BEGIN:DAYLIGHT
TZOFFSETFROM:+0100
TZOFFSETTO:+0200
TZNAME:CEST
DTSTART:20260329T010000
END:DAYLIGHT
BEGIN:STANDARD
TZOFFSETFROM:+0200
TZOFFSETTO:+0100
TZNAME:CET
DTSTART:20261025T010000
END:STANDARD
END:VTIMEZONE
BEGIN:VEVENT
DTSTART;TZID=Europe/Paris:20250830T080000
DTEND;TZID=Europe/Paris:20250907T173000
DTSTAMP:20260423T164040
CREATED:20250125T142254Z
LAST-MODIFIED:20250727T142819Z
UID:22999-1756540800-1757266200@lyonchapterfrance.com
SUMMARY:Faaker See
DESCRIPTION:Un très beau run pour rejoindre l’European Bike Week – Harley Davidson – en Autriche \nRRC : Pierre Berthet / pierre.berthet120@gmail.com / 06 27 38 20 88 \n30 participants\nDistance : 2600 km\nHébergement : Hôtels\nRestauration : Cafés du matin et  repas du soir sont compris + 2 repas midi\nPrévoir Pique-nique pour le premier jour\nDivers : Les péages des 2 cols sont compris.\nPrix : 1200 € / personne\n \nClassement :
URL:https://lyonchapterfrance.com/savethedate/faaker-see/
LOCATION:A42 – Parking péage de Beynost
CATEGORIES:Run
END:VEVENT
END:VCALENDAR