BEGIN:VCALENDAR
VERSION:2.0
PRODID:-//Lyon Chapter France - ECPv6.15.18//NONSGML v1.0//EN
CALSCALE:GREGORIAN
METHOD:PUBLISH
X-WR-CALNAME:Lyon Chapter France
X-ORIGINAL-URL:https://lyonchapterfrance.com
X-WR-CALDESC:Évènements pour Lyon Chapter France
REFRESH-INTERVAL;VALUE=DURATION:PT1H
X-Robots-Tag:noindex
X-PUBLISHED-TTL:PT1H
BEGIN:VTIMEZONE
TZID:Europe/Paris
BEGIN:DAYLIGHT
TZOFFSETFROM:+0100
TZOFFSETTO:+0200
TZNAME:CEST
DTSTART:20240331T010000
END:DAYLIGHT
BEGIN:STANDARD
TZOFFSETFROM:+0200
TZOFFSETTO:+0100
TZNAME:CET
DTSTART:20241027T010000
END:STANDARD
BEGIN:DAYLIGHT
TZOFFSETFROM:+0100
TZOFFSETTO:+0200
TZNAME:CEST
DTSTART:20250330T010000
END:DAYLIGHT
BEGIN:STANDARD
TZOFFSETFROM:+0200
TZOFFSETTO:+0100
TZNAME:CET
DTSTART:20251026T010000
END:STANDARD
BEGIN:DAYLIGHT
TZOFFSETFROM:+0100
TZOFFSETTO:+0200
TZNAME:CEST
DTSTART:20260329T010000
END:DAYLIGHT
BEGIN:STANDARD
TZOFFSETFROM:+0200
TZOFFSETTO:+0100
TZNAME:CET
DTSTART:20261025T010000
END:STANDARD
BEGIN:DAYLIGHT
TZOFFSETFROM:+0100
TZOFFSETTO:+0200
TZNAME:CEST
DTSTART:20270328T010000
END:DAYLIGHT
BEGIN:STANDARD
TZOFFSETFROM:+0200
TZOFFSETTO:+0100
TZNAME:CET
DTSTART:20271031T010000
END:STANDARD
END:VTIMEZONE
BEGIN:VEVENT
DTSTART;TZID=Europe/Paris:20260418T083000
DTEND;TZID=Europe/Paris:20260419T173000
DTSTAMP:20260423T161545
CREATED:20260125T140528Z
LAST-MODIFIED:20260125T140729Z
UID:23679-1776501000-1776619800@lyonchapterfrance.com
SUMMARY:Gregs Run III and their Ladies
DESCRIPTION:Quand nos femmes s’en mêlent… On finit dans le Sud !! \nRRC : Dominique Riou / dominiqueriou@neuf.fr \n45 participants\nDistance : 680 km\nHébergement : “Hotel Les Loges du Luberon”\nRestauration : Café matin – Déjeuner – Diner\nDivers : Draps et linge de toilette compris à l’Hôtel\nPrix : 165 € / personne\n \nClassement :
URL:https://lyonchapterfrance.com/savethedate/gregs-run-iii-and-their-ladies/
LOCATION:A7 Station Shell / Aire du Roussillon (14 kms après le péage)
CATEGORIES:Sortie
END:VEVENT
BEGIN:VEVENT
DTSTART;TZID=Europe/Paris:20260412T090000
DTEND;TZID=Europe/Paris:20260412T173000
DTSTAMP:20260423T161545
CREATED:20260124T163534Z
LAST-MODIFIED:20260410T200707Z
UID:23675-1775984400-1776015000@lyonchapterfrance.com
SUMMARY:Sortie de grange : les Poulettes se réveillent !
DESCRIPTION:L’hiver a été long\, pour se dégourdir les bielles\, les poulettes mettent la gomme ! \nRRC : Jean-François Brohet / jeanfrancoisbrohet@gmail.com \n40 participants\nDistance : 280 km\nRestauration : Compris pause café et déjeuner\nPrix : 33 € / personne\n \nClassement :
URL:https://lyonchapterfrance.com/savethedate/allons-manger-2/
LOCATION:A42 – Station AVIA Aire de Dagneux
CATEGORIES:Sortie
ORGANIZER;CN="Pascale Tilhet-Coartet":MAILTO:mailbox.ptc@gmail.com
END:VEVENT
BEGIN:VEVENT
DTSTART;TZID=Europe/Paris:20260410T183000
DTEND;TZID=Europe/Paris:20260410T233000
DTSTAMP:20260423T161545
CREATED:20260125T141656Z
LAST-MODIFIED:20260214T130703Z
UID:23690-1775845800-1775863800@lyonchapterfrance.com
SUMMARY:Réunion mensuelle
DESCRIPTION:L’ENTRE-NOUS \n5 Allée Moulin Berger\n69130 Ecully
URL:https://lyonchapterfrance.com/savethedate/reunion-mensuelle-22/
LOCATION:L’Entre-Nous\, 5 Allée Moulin Berger\, Ecully\, 69130
CATEGORIES:Réunion mensuelle
ATTACH;FMTTYPE=image/jpeg:https://lyonchapterfrance.com/wp-content/uploads/2026/02/IMG_20250912_185614-scaled.jpg
END:VEVENT
BEGIN:VEVENT
DTSTART;TZID=Europe/Paris:20260329T090000
DTEND;TZID=Europe/Paris:20260329T173000
DTSTAMP:20260423T161545
CREATED:20260117T165421Z
LAST-MODIFIED:20260117T165421Z
UID:23654-1774774800-1774805400@lyonchapterfrance.com
SUMMARY:Allons manger !
DESCRIPTION:Allons promener Brescouda\, pour ripailler dans les Monts du Lyonnais\, sans trop nous éloigner. \nRRC : Philippe PATAY / philippe.patay38@gmail.com \n40 participants\nDistance : 235 km\nRestauration : Compris pause café et déjeuner\nPrix : 34 € / personne\n \nClassement :
URL:https://lyonchapterfrance.com/savethedate/allons-manger/
LOCATION:A6 – Parking Auchan Dardilly
CATEGORIES:Sortie
END:VEVENT
BEGIN:VEVENT
DTSTART;TZID=Europe/Paris:20260315T083000
DTEND;TZID=Europe/Paris:20260315T173000
DTSTAMP:20260423T161545
CREATED:20260125T141529Z
LAST-MODIFIED:20260128T201807Z
UID:23688-1773563400-1773595800@lyonchapterfrance.com
SUMMARY:Picsou et Rapetou III
DESCRIPTION:Entre Ardèche et Drome avec retour rapide pour être à l’heure dans l’isoloir. \nRRC : Pierre Berthet / berthet.pierre2@orange.fr \n40 participants\nDistance : 351 km\nRestauration : Ferme auberge La ferme de Ranchy – 26400 Divajeu\nDivers : La pause café et viennoiserie est comprise\nPrix : 34 € / personne\n \nClassement :
URL:https://lyonchapterfrance.com/savethedate/picsou-et-rapetou-iii/
LOCATION:A7 Station Shell / Aire du Roussillon (14 kms après le péage)
CATEGORIES:Sortie
END:VEVENT
BEGIN:VEVENT
DTSTART;TZID=Europe/Paris:20260313T183000
DTEND;TZID=Europe/Paris:20260313T233000
DTSTAMP:20260423T161545
CREATED:20260125T141131Z
LAST-MODIFIED:20260214T124858Z
UID:23686-1773426600-1773444600@lyonchapterfrance.com
SUMMARY:Réunion mensuelle
DESCRIPTION:L’ENTRE-NOUS \n5 Allée Moulin Berger\n69130 Ecully
URL:https://lyonchapterfrance.com/savethedate/reunion-mensuelle-21/
LOCATION:L’Entre-Nous\, 5 Allée Moulin Berger\, Ecully\, 69130
CATEGORIES:Réunion mensuelle
ATTACH;FMTTYPE=image/jpeg:https://lyonchapterfrance.com/wp-content/uploads/2026/02/IMG_20250912_185614-scaled.jpg
END:VEVENT
BEGIN:VEVENT
DTSTART;VALUE=DATE:20260308
DTEND;VALUE=DATE:20260309
DTSTAMP:20260423T161545
CREATED:20260111T151851Z
LAST-MODIFIED:20260111T151851Z
UID:23611-1772928000-1773014399@lyonchapterfrance.com
SUMMARY:Toutes à Moto
DESCRIPTION:
URL:https://lyonchapterfrance.com/savethedate/toutes-a-moto/
LOCATION:Lieu de départ à venir
CATEGORIES:Evènement
END:VEVENT
BEGIN:VEVENT
DTSTART;VALUE=DATE:20260226
DTEND;VALUE=DATE:20260302
DTSTAMP:20260423T161545
CREATED:20260111T151550Z
LAST-MODIFIED:20260117T164354Z
UID:23606-1772064000-1772409599@lyonchapterfrance.com
SUMMARY:Salon de la Moto
DESCRIPTION:
URL:https://lyonchapterfrance.com/savethedate/salon-de-la-moto-3/
LOCATION:Eurexpo Lyon Boulevard de l’Europe 69680\, Chassieu
CATEGORIES:Evènement
ATTACH;FMTTYPE=image/png:https://lyonchapterfrance.com/wp-content/uploads/2026/01/Salon-de-la-moto-2026.png
END:VEVENT
BEGIN:VEVENT
DTSTART;TZID=Europe/Paris:20260222T090000
DTEND;TZID=Europe/Paris:20260222T173000
DTSTAMP:20260423T161545
CREATED:20260104T164639Z
LAST-MODIFIED:20260117T165526Z
UID:23585-1771750800-1771781400@lyonchapterfrance.com
SUMMARY:La Starter
DESCRIPTION:Allons rencontrer “La Grosne” \nRRC : Philippe PATAY / philippe.patay38@gmail.com \n55 participants\nDistance : 237 km\nRestauration : Café “Le Pampy” et Bistrot MESSEUGNE\nPrix : 31 € / personne\n \nClassement :
URL:https://lyonchapterfrance.com/savethedate/la-starter-2/
LOCATION:A6 – Station Total / Aire de Paisy Dardilly
CATEGORIES:Sortie
END:VEVENT
BEGIN:VEVENT
DTSTART;TZID=Europe/Paris:20260215T110000
DTEND;TZID=Europe/Paris:20260215T160000
DTSTAMP:20260423T161545
CREATED:20260106T174632Z
LAST-MODIFIED:20260117T164855Z
UID:23596-1771153200-1771171200@lyonchapterfrance.com
SUMMARY:La Matinée Régime
DESCRIPTION:On va encore maigrir ! Retrouvailles des membres du Lyon Chapter France autour d’un bon déjeuner \n911\, chemin du Petit Fromentin\n69380 Chasselay\nPrix : 30 € / personne
URL:https://lyonchapterfrance.com/savethedate/la-matinee-regime-3/
LOCATION:Domaine Décrenisse\, 911\, chemin du petit Fromentin\, Chasselay\, 69380
CATEGORIES:Evènement
ATTACH;FMTTYPE=image/png:https://lyonchapterfrance.com/wp-content/uploads/2026/01/Domaine_Decrenisse.png
END:VEVENT
BEGIN:VEVENT
DTSTART;TZID=Europe/Paris:20260213T183000
DTEND;TZID=Europe/Paris:20260213T233000
DTSTAMP:20260423T161545
CREATED:20260125T140955Z
LAST-MODIFIED:20260125T140955Z
UID:23683-1771007400-1771025400@lyonchapterfrance.com
SUMMARY:Réunion mensuelle
DESCRIPTION:L’ENTRE-NOUS \n5 Allée Moulin Berger\n69130 Ecully
URL:https://lyonchapterfrance.com/savethedate/reunion-mensuelle-20/
LOCATION:L’Entre-Nous\, 5 Allée Moulin Berger\, Ecully\, 69130
CATEGORIES:Réunion mensuelle
ATTACH;FMTTYPE=image/png:https://lyonchapterfrance.com/wp-content/uploads/2025/04/Lentre-nous.png
END:VEVENT
BEGIN:VEVENT
DTSTART;TZID=Europe/Paris:20260110T173000
DTEND;TZID=Europe/Paris:20260110T230000
DTSTAMP:20260423T161545
CREATED:20251115T160311Z
LAST-MODIFIED:20251115T160418Z
UID:23527-1768066200-1768086000@lyonchapterfrance.com
SUMMARY:Assemblée générale
DESCRIPTION:
URL:https://lyonchapterfrance.com/savethedate/assemblee-generale-2/
LOCATION:Espace Albert Camus\, 1 Rue Maryse Bastié\, Bron
CATEGORIES:Evènement
ATTACH;FMTTYPE=image/png:https://lyonchapterfrance.com/wp-content/uploads/2024/12/Espace-Albert-Camus-Bron.png
END:VEVENT
BEGIN:VEVENT
DTSTART;TZID=Europe/Paris:20251213T170000
DTEND;TZID=Europe/Paris:20251213T193000
DTSTAMP:20260423T161545
CREATED:20251115T155906Z
LAST-MODIFIED:20251115T155906Z
UID:23523-1765645200-1765654200@lyonchapterfrance.com
SUMMARY:La Parade des Pères Noël
DESCRIPTION:Vivez le départ des ByCoeurs de la concession Harley Davidson à Dardilly à 14h
URL:https://lyonchapterfrance.com/savethedate/la-parade-des-peres-noel-2/
LOCATION:Rue Nationale Villefranche-sur-Saone
CATEGORIES:Caritatif,Evènement
ATTACH;FMTTYPE=image/png:https://lyonchapterfrance.com/wp-content/uploads/2025/11/Parade-Peres-Noel-2025.png
END:VEVENT
BEGIN:VEVENT
DTSTART;TZID=Europe/Paris:20251212T183000
DTEND;TZID=Europe/Paris:20251212T233000
DTSTAMP:20260423T161545
CREATED:20250125T140651Z
LAST-MODIFIED:20250429T173115Z
UID:22989-1765564200-1765582200@lyonchapterfrance.com
SUMMARY:Réunion mensuelle
DESCRIPTION:L’ENTRE-NOUS \n5 Allée Moulin Berger\n69130 Ecully
URL:https://lyonchapterfrance.com/savethedate/reunion-mensuelle-19/
LOCATION:L’Entre-Nous\, 5 Allée Moulin Berger\, Ecully\, 69130
CATEGORIES:Réunion mensuelle
ATTACH;FMTTYPE=image/png:https://lyonchapterfrance.com/wp-content/uploads/2025/04/Lentre-nous.png
END:VEVENT
BEGIN:VEVENT
DTSTART;TZID=Europe/Paris:20251129T083000
DTEND;TZID=Europe/Paris:20251130T173000
DTSTAMP:20260423T161545
CREATED:20250125T152905Z
LAST-MODIFIED:20251003T171915Z
UID:23045-1764405000-1764523800@lyonchapterfrance.com
SUMMARY:La Der de l'An
DESCRIPTION:Toujours un magnifique Week-end pour terminer la saison  \nRRC : Jean François Brohet / jeanfrancoisbrohet@gmail.com \n40 participants\nDistance : 460 km\nRestauration : Repas et pauses café incluses\nPrix : 160 € / personne\n \nClassement : \n   et demi !!
URL:https://lyonchapterfrance.com/savethedate/la-der-de-lan-2/
LOCATION:A7 Station Shell / Aire du Roussillon (14 kms après le péage)
CATEGORIES:Sortie
END:VEVENT
BEGIN:VEVENT
DTSTART;TZID=Europe/Paris:20251122T190000
DTEND;TZID=Europe/Paris:20251122T233000
DTSTAMP:20260423T161545
CREATED:20250125T152752Z
LAST-MODIFIED:20250125T152752Z
UID:23042-1763838000-1763854200@lyonchapterfrance.com
SUMMARY:La fête du Chapter
DESCRIPTION:Finir l’année tous ensemble en beauté ! \nRRC : XXXX \nXX participants\nDistance : XX km\nRestauration : XX\nPrix : XX € / personne\n \nClassement :
URL:https://lyonchapterfrance.com/savethedate/la-fete-du-chapter/
LOCATION:Harley Davidson Grand Lyon Dardilly
CATEGORIES:Evènement
ORGANIZER;CN="Nathalie Vallier":MAILTO:alimopat@orange.fr
END:VEVENT
BEGIN:VEVENT
DTSTART;TZID=Europe/Paris:20251116T083000
DTEND;TZID=Europe/Paris:20251116T173000
DTSTAMP:20260423T161545
CREATED:20250125T152528Z
LAST-MODIFIED:20250922T200322Z
UID:23039-1763281800-1763314200@lyonchapterfrance.com
SUMMARY:La Bourgeolaise
DESCRIPTION:En selle ! Venez faire rugir vos moteurs sur les routes pittoresques entre Bourgogne et Beaujolais\, alliance parfaite entre routes et gastronomie. \nRRC : Dominique Riou / dominiqueriou@neuf.fr / 06 17 02 36 94 \n40 participants\nDistance : 275 km\nRestauration : Pause – café déjeuner restaurant inclus\nPrix : 32 € / personne\n \nClassement :
URL:https://lyonchapterfrance.com/savethedate/la-bourgeolaise/
LOCATION:A6 – Aire de Paisy
CATEGORIES:Sortie
END:VEVENT
BEGIN:VEVENT
DTSTART;TZID=Europe/Paris:20251114T183000
DTEND;TZID=Europe/Paris:20251114T233000
DTSTAMP:20260423T161545
CREATED:20250125T140612Z
LAST-MODIFIED:20250429T173032Z
UID:22987-1763145000-1763163000@lyonchapterfrance.com
SUMMARY:Réunion mensuelle
DESCRIPTION:L’ENTRE-NOUS \n5 Allée Moulin Berger\n69130 Ecully
URL:https://lyonchapterfrance.com/savethedate/reunion-mensuelle-18/
LOCATION:L’Entre-Nous\, 5 Allée Moulin Berger\, Ecully\, 69130
CATEGORIES:Réunion mensuelle
ATTACH;FMTTYPE=image/png:https://lyonchapterfrance.com/wp-content/uploads/2025/04/Lentre-nous.png
END:VEVENT
BEGIN:VEVENT
DTSTART;TZID=Europe/Paris:20251108T083000
DTEND;TZID=Europe/Paris:20251111T173000
DTSTAMP:20260423T161545
CREATED:20250125T152324Z
LAST-MODIFIED:20250628T131829Z
UID:23035-1762590600-1762882200@lyonchapterfrance.com
SUMMARY:Mayoman II
DESCRIPTION:Promenade entre Isle entre Vézère. \nRRC : Dominique Riou / dominiqueriou@neuf.fr / 06 17 02 36 94 \n40 participants\nDistance : 1080 km\nRestauration : Tous les repas inclus.\nHébergement : Chalets 4 personnes\, 2 chambres avec salle de bain individuelle.\nDivers : Linge de toilette et drap inclus.\nPrix : 385 € / personne\n \nClassement :
URL:https://lyonchapterfrance.com/savethedate/mayoman-le-retour/
LOCATION:Aire pays du Gier  (Sur A47 St Chamond)
CATEGORIES:Sortie
END:VEVENT
BEGIN:VEVENT
DTSTART;TZID=Europe/Paris:20251026T090000
DTEND;TZID=Europe/Paris:20251026T173000
DTSTAMP:20260423T161545
CREATED:20250125T152151Z
LAST-MODIFIED:20250804T184049Z
UID:23033-1761469200-1761499800@lyonchapterfrance.com
SUMMARY:La Sortie des Poulettes
DESCRIPTION:En avant toutes\, cap à l’est ! Direction les rives paisibles du lac du Bourget\, avec un déjeuner les pieds dans l’eau… \nRRC : Jean François Brohet / jeanfrancoisbrohet@gmail.com \n40 participants\nDistance : 300 km\nRestauration : Pause-café & déjeuner restaurant inclus\nPrix : 34 € / personne\n \nClassement :
URL:https://lyonchapterfrance.com/savethedate/la-sortie-des-poulettes/
LOCATION:A42 – Parking péage de Beynost
CATEGORIES:Sortie
ORGANIZER;CN="Pascale Tilhet-Coartet":MAILTO:mailbox.ptc@gmail.com
END:VEVENT
BEGIN:VEVENT
DTSTART;TZID=Europe/Paris:20251018T083000
DTEND;TZID=Europe/Paris:20251019T173000
DTSTAMP:20260423T161545
CREATED:20250125T151907Z
LAST-MODIFIED:20250628T130305Z
UID:23029-1760776200-1760895000@lyonchapterfrance.com
SUMMARY:Belle l'isle en Terre
DESCRIPTION:N’oubliez pas vos papiers\, sinon au trou !!! \nRRC : Dominique Riou / dominiqueriou@neuf.fr / 06 17 02 36 94 \n40 participants\nDistance : 500 km\nHébergement : Hôtel CANTOSORGUE\, 800 Cours Femande Peyre\, 84800 L’Isle-sur-la-Sorgue\nRestauration : Au Convivial 26460 Bouvières – A l’Alambic L’Isle sur la Sorgue\nDivers : Sont inclus : Cafés\, restauration des midis et du soir\, hébergement pour 1 nuit et petit-déjeuner\, visite du musée du papier et de la grotte.\nPrix : 160 € / personne\n \nClassement :
URL:https://lyonchapterfrance.com/savethedate/belle-lisle-en-terre/
LOCATION:Parking LECLERC Vienne
CATEGORIES:Sortie
END:VEVENT
BEGIN:VEVENT
DTSTART;TZID=Europe/Paris:20251012T083000
DTEND;TZID=Europe/Paris:20251012T173000
DTSTAMP:20260423T161545
CREATED:20250125T151659Z
LAST-MODIFIED:20250922T195620Z
UID:23026-1760257800-1760290200@lyonchapterfrance.com
SUMMARY:La Gil'Alain
DESCRIPTION:La mémoire\, une tradition au Chapter qui perdure !\nHaut Bugey et Retord \nRRC : Pierre Berthet / pierre.berthet120@gmail.com / 06 27 38 20 88 \n40 participants\nDistance : 270 km de Lyon à Lyon\nDivers : Arrêt café compris\nPrix : 32 € / personne\n \nClassement : \n et demi !
URL:https://lyonchapterfrance.com/savethedate/la-gilalain/
LOCATION:A42 – Parking péage de Beynost
CATEGORIES:Sortie
END:VEVENT
BEGIN:VEVENT
DTSTART;TZID=Europe/Paris:20251010T183000
DTEND;TZID=Europe/Paris:20251010T233000
DTSTAMP:20260423T161545
CREATED:20250125T140536Z
LAST-MODIFIED:20250429T172938Z
UID:22985-1760121000-1760139000@lyonchapterfrance.com
SUMMARY:Réunion mensuelle
DESCRIPTION:L’ENTRE-NOUS \n5 Allée Moulin Berger\n69130 Ecully
URL:https://lyonchapterfrance.com/savethedate/reunion-mensuelle-17/
LOCATION:L’Entre-Nous\, 5 Allée Moulin Berger\, Ecully\, 69130
CATEGORIES:Réunion mensuelle
ATTACH;FMTTYPE=image/png:https://lyonchapterfrance.com/wp-content/uploads/2025/04/Lentre-nous.png
END:VEVENT
BEGIN:VEVENT
DTSTART;TZID=Europe/Paris:20251005T083000
DTEND;TZID=Europe/Paris:20251005T173000
DTSTAMP:20260423T161545
CREATED:20250125T151408Z
LAST-MODIFIED:20250628T125923Z
UID:23023-1759653000-1759685400@lyonchapterfrance.com
SUMMARY:La sortie du Dealer
DESCRIPTION:Pour cette deuxième édition\, nous retournons à la Cascade de Glandieu pour partager un moment de convivialité avec notre concessionnaire et son équipe. \nRRC : Dominique Riou / dominiqueriou@neuf.fr / 06 17 02 36 94 \n100 participants\nDistance : 170 km\nRestauration : Le Bistrot de la Cascade\, 01300 Groslée-Saint-Benoit\nDivers : 170 km le matin\, départ libre l’après-midi\nPrix : 35 € / personne\n \nClassement :
URL:https://lyonchapterfrance.com/savethedate/la-sortie-du-dealer/
LOCATION:A42 – Parking Leclerc Beynost (A42)
CATEGORIES:Sortie
ORGANIZER;CN="Alexandre Large":MAILTO:alexandre.large@laposte.net
END:VEVENT
BEGIN:VEVENT
DTSTART;TZID=Europe/Paris:20251004T130000
DTEND;TZID=Europe/Paris:20251004T173000
DTSTAMP:20260423T161545
CREATED:20250125T151234Z
LAST-MODIFIED:20250727T144222Z
UID:23021-1759582800-1759599000@lyonchapterfrance.com
SUMMARY:Bikers solidaires  Parc de Parilly
DESCRIPTION:Avec les résidents du Foyer Henri Thomas. Un grand moment de partage et de bonheur. \nProgramme édition 2025  \n*Départ au choix :\nRdv pour départ groupé à 13 h 00 de la concession HDGL Dardilly ou directement sur place à 13 h 30 à l’Hippodrome de Bron Parilly\, Rond-Point des Turfistes. \n* Activité :\n14 h 00 à16 h 00 : tours motos au parc de Parilly en site protégé avec les adultes handicapés des foyers Henri Thomas (Bron) et Paul Santy (Lyon 08).\n!! Attention !! Ne pas oublier casque et siège passager\, idéalement avec sissy bar\, merci à vous. \n* Goûter :\n16 h 30 à 17 h 00 : goûter partagé avec les résidents et remise des diplômes.\nOptionnel : pour les membres du LCF qui le souhaitent\, à confirmer suivant inscriptions :\n* Balade de 17 h 00 à 19 h 00 – durée 2 h maxi.\n* Dîner vers 19 h 30 (lieu à confirmer) \nClassement :
URL:https://lyonchapterfrance.com/savethedate/bikers-solidaires-parc-de-parilly/
LOCATION:Harley Davidson Grand Lyon Dardilly
CATEGORIES:Caritatif
END:VEVENT
BEGIN:VEVENT
DTSTART;TZID=Europe/Paris:20250926T073000
DTEND;TZID=Europe/Paris:20250928T173000
DTSTAMP:20260423T161545
CREATED:20250125T150734Z
LAST-MODIFIED:20250531T151212Z
UID:23014-1758871800-1759080600@lyonchapterfrance.com
SUMMARY:Late Summer Days à St Cyprien  avec le Chapter de Perpignan
DESCRIPTION:Week-end rallongé pour participer aux LATE SUMMER DAYS organisé par le Perpignan 66 Chapter à St Cyprien. \nRRC : Dominique Riou / dominiqueriou@neuf.fr / 06 17 02 36 94 \n40 participants\nDistance : 1100 km\nHébergement : Mobil Home confort en camping (parc aquatique) : Le Soleil de la Méditerranée\nRestauration : Repas vendredi (midi et soir)\,samedi (soir) et 2 petits déjeuners compris / samedi midi libre.\nDivers : Samedi : Sortie organisée dans l’arrière pays. Repas du midi sur réservation à l’inscription (prévoir environ 25 euros à payer sur place) OU Parade des Chapters sur St Cyprien (le matin) OU Libre.\nDimanche : Départ 10h maxi\, Retour libre.  \nPrix : 178 € / personne\n \nClassement :
URL:https://lyonchapterfrance.com/savethedate/late-summer-days-a-st-cyprien-avec-le-chapter-de-perpignan/
LOCATION:A7 Station Shell / Aire du Roussillon (14 kms après le péage)
CATEGORIES:Sortie
END:VEVENT
BEGIN:VEVENT
DTSTART;TZID=Europe/Paris:20250921T083000
DTEND;TZID=Europe/Paris:20250921T173000
DTSTAMP:20260423T161545
CREATED:20250125T143216Z
LAST-MODIFIED:20250628T130435Z
UID:23008-1758443400-1758475800@lyonchapterfrance.com
SUMMARY:Les cinq départements
DESCRIPTION:La Classique 38-26-07-43-42\, une boucle au départ de Vienne en passant par le Rhône. \nRRC : Jean François Brohet / jeanfrancoisbrohet@gmail.com / 06 82 95 66 59 60 \n40 participants\nDistance : 345 km\nRestauration : Restaurant Les Négociants à Lamastre 07\nDivers : Pause café comprise\nPrix : 29.50 € / personne\n \nClassement :
URL:https://lyonchapterfrance.com/savethedate/les-cinq-departements/
LOCATION:A7 – Parking Leclerc Vienne
CATEGORIES:Sortie
END:VEVENT
BEGIN:VEVENT
DTSTART;TZID=Europe/Paris:20250913T083000
DTEND;TZID=Europe/Paris:20250914T173000
DTSTAMP:20260423T161545
CREATED:20250125T142813Z
LAST-MODIFIED:20250531T145153Z
UID:23003-1757752200-1757871000@lyonchapterfrance.com
SUMMARY:La route 65
DESCRIPTION:Une belle sortie de Sexygénaires \nRRC : Jean François Brohet / jeanfrancoisbrohet@gmail.com \n40 participants\nDistance : 620 km\nRestauration : Restaurant du samedi : Le Tourn 294 Le Village\, 26150 Chamaloc. Restaurant de dimanche : La Colombe Aurel\, 26340 Aurel\nDivers : Pause café comprise\nHébergement : Le Cloitre des Dominicains 26170 Buis les Baronnies\nPrix : 134 € / personne\n \nClassement :
URL:https://lyonchapterfrance.com/savethedate/la-route-65/
LOCATION:A7 – Parking Leclerc Vienne
CATEGORIES:Sortie
END:VEVENT
BEGIN:VEVENT
DTSTART;TZID=Europe/Paris:20250912T183000
DTEND;TZID=Europe/Paris:20250912T233000
DTSTAMP:20260423T161545
CREATED:20250125T140457Z
LAST-MODIFIED:20250429T172848Z
UID:22983-1757701800-1757719800@lyonchapterfrance.com
SUMMARY:Réunion mensuelle
DESCRIPTION:L’ENTRE-NOUS \n5 Allée Moulin Berger\n69130 Ecully
URL:https://lyonchapterfrance.com/savethedate/reunion-mensuelle-16/
LOCATION:L’Entre-Nous\, 5 Allée Moulin Berger\, Ecully\, 69130
CATEGORIES:Réunion mensuelle
ATTACH;FMTTYPE=image/png:https://lyonchapterfrance.com/wp-content/uploads/2025/04/Lentre-nous.png
END:VEVENT
BEGIN:VEVENT
DTSTART;TZID=Europe/Paris:20250906T083000
DTEND;TZID=Europe/Paris:20250907T173000
DTSTAMP:20260423T161545
CREATED:20250125T142522Z
LAST-MODIFIED:20250531T182923Z
UID:23001-1757147400-1757266200@lyonchapterfrance.com
SUMMARY:Comté et belles mécaniques
DESCRIPTION:A la découverte de la route des lacs du Jura jusqu’au Fort des Rousses\, une incursion en Jura Suisse nous fera découvrir la route des fabricants de montre jusqu’au lac de Neuchâtel\, sans oublier la gastronomie de cette belle région. \nRRC : Pierre Berthet / pierre.berthet120@gmail.com / 06 27 38 20 88 \n42 participants\nDistance : 602 km\nHébergement : Hotel Club LE RISOUX ***\nRestauration : Restauration comprise (déjeuner\, midi et soir)\nDivers : Pause “café” du samedi et dimanche matin compris dans le prix (café\, thé ou chocolat avec viennoiserie).\nVisite : Visite du Fort des Rousses JuraFlore à 16h30 le samedi compris dans le prix\nPrix : 155.50 € / personne\n \nClassement :
URL:https://lyonchapterfrance.com/savethedate/comte-et-belles-mecaniques-du-jura/
LOCATION:Ancienne concession HD Brignais
CATEGORIES:Sortie
ORGANIZER;CN="Thierry Midroit":MAILTO:midroit.thierry@bbox.fr
END:VEVENT
END:VCALENDAR