BEGIN:VCALENDAR
VERSION:2.0
PRODID:-//Lyon Chapter France - ECPv6.15.18//NONSGML v1.0//EN
CALSCALE:GREGORIAN
METHOD:PUBLISH
X-ORIGINAL-URL:https://lyonchapterfrance.com
X-WR-CALDESC:Évènements pour Lyon Chapter France
REFRESH-INTERVAL;VALUE=DURATION:PT1H
X-Robots-Tag:noindex
X-PUBLISHED-TTL:PT1H
BEGIN:VTIMEZONE
TZID:Europe/Paris
BEGIN:DAYLIGHT
TZOFFSETFROM:+0100
TZOFFSETTO:+0200
TZNAME:CEST
DTSTART:20250330T010000
END:DAYLIGHT
BEGIN:STANDARD
TZOFFSETFROM:+0200
TZOFFSETTO:+0100
TZNAME:CET
DTSTART:20251026T010000
END:STANDARD
BEGIN:DAYLIGHT
TZOFFSETFROM:+0100
TZOFFSETTO:+0200
TZNAME:CEST
DTSTART:20260329T010000
END:DAYLIGHT
BEGIN:STANDARD
TZOFFSETFROM:+0200
TZOFFSETTO:+0100
TZNAME:CET
DTSTART:20261025T010000
END:STANDARD
BEGIN:DAYLIGHT
TZOFFSETFROM:+0100
TZOFFSETTO:+0200
TZNAME:CEST
DTSTART:20270328T010000
END:DAYLIGHT
BEGIN:STANDARD
TZOFFSETFROM:+0200
TZOFFSETTO:+0100
TZNAME:CET
DTSTART:20271031T010000
END:STANDARD
END:VTIMEZONE
BEGIN:VEVENT
DTSTART;TZID=Europe/Paris:20260425T083000
DTEND;TZID=Europe/Paris:20260425T173000
DTSTAMP:20260423T145117
CREATED:20260125T142341Z
LAST-MODIFIED:20260214T140252Z
UID:23704-1777105800-1777138200@lyonchapterfrance.com
SUMMARY:Une rose\, Un espoir
DESCRIPTION:Vendre des roses pour la lutte contre le cancer \nRRC : XX \nXX participants\nDistance : XX km\nRestauration : XX.\nPrix : XX € / personne\n \nClassement :
URL:https://lyonchapterfrance.com/savethedate/une-rose-un-espoir-3/
LOCATION:Lieu de départ à venir
CATEGORIES:Caritatif
ATTACH;FMTTYPE=image/png:https://lyonchapterfrance.com/wp-content/uploads/2026/02/Une-rose-Un-espoir.png
END:VEVENT
BEGIN:VEVENT
DTSTART;TZID=Europe/Paris:20260426T090000
DTEND;TZID=Europe/Paris:20260426T173000
DTSTAMP:20260423T145117
CREATED:20260125T142614Z
LAST-MODIFIED:20260128T202304Z
UID:23706-1777194000-1777224600@lyonchapterfrance.com
SUMMARY:Une journée Viennoise avec d'anciennes Porsche et nos Harley
DESCRIPTION:Journée caritative avec le Lions club de Vienne et l’association” Rêves” pour réaliser les rêves d’enfants malades. \nRRC : Jean François Brohet / jeanfrancoisbrohet@gmail.com \n45 participants (environ 45 motos)\nParade d’Harley et Porsche le matin à Vienne et Baptêmes l’après midi\n(accueil des membres du LCF entre 09h00 et 10h00 maxi)\nPetit déjeuner et repas de midi inclus\nN’oubliez pas de vous munir d’un casque et de gants que vous pourrez prêter aux personnes que vous emmènerez pour les baptêmes. Des « Charlottes hygiéniques » seront à disposition sur place.\nRendez vous entre 9H et 10H à l’Espace Saint Germain\, 30 avenue Général Leclerc 38200 VIENNE\nPrix : 33 € / personne\n \nClassement :
URL:https://lyonchapterfrance.com/savethedate/une-journee-viennoise-avec-danciennes-porsche-et-nos-harley-2/
LOCATION:Espace Saint Germain\, 30 avenue Général Leclerc 38200 VIENNE
CATEGORIES:Caritatif
END:VEVENT
BEGIN:VEVENT
DTSTART;TZID=Europe/Paris:20260501T080000
DTEND;TZID=Europe/Paris:20260503T173000
DTSTAMP:20260423T145117
CREATED:20260127T204122Z
LAST-MODIFIED:20260301T160025Z
UID:23712-1777622400-1777829400@lyonchapterfrance.com
SUMMARY:Ride & Remember
DESCRIPTION:Une balade à travers 5 départements pour atteindre un lieu chargé d’histoire et d’émotions pour la mémoire\, Oradour/Glane. \nRRC : Dominique Riou / dominiqueriou@neuf.fr \n40 participants\nDistance : 825 km\nHébergement : Même hôtel pour les 2 nuits\nRestauration : Tous les repas sont compris\nPrix : 250 € / personne\n \nClassement :
URL:https://lyonchapterfrance.com/savethedate/ride-remember/
LOCATION:A6 – Parking Auchan Dardilly
CATEGORIES:Sortie
ORGANIZER;CN="Jerome Devigne":MAILTO:jeromedevigne01@gmail.com
END:VEVENT
BEGIN:VEVENT
DTSTART;TZID=Europe/Paris:20260501T090000
DTEND;TZID=Europe/Paris:20260517T170000
DTSTAMP:20260423T145117
CREATED:20251115T154345Z
LAST-MODIFIED:20251115T154345Z
UID:23520-1777626000-1779037200@lyonchapterfrance.com
SUMMARY:Les Pouilles
DESCRIPTION:Dolce Vita nei Puglia \nRRC : Pierre Berthet / pierre.berthet120@gmail.com / 06 27 38 20 88 \n28 participants\nDistance : 4000 km\nHébergement : Hôtel\nRestauration : Demi-pension\, excepté sur les Ferries (petits déjeuners uniquement) – Déjeuners libres\nPrix : 2300 € / personne\nPaiement du Run échelonné en 4 règlements : \n* 1er chèque 600 € : sera encaissé le 15 décembre 2025\n* 2ème chèque 600 € : sera encaissé le 15 février 2026\n* 3ème chèque 600 € : sera encaissé le 15 avril 2026\n* Le solde sera encaissé le 15 juin 2026 \n\nClassement :
URL:https://lyonchapterfrance.com/savethedate/les-pouilles/
LOCATION:A43 – Aire de L’Isle d’Abeau
CATEGORIES:Run
END:VEVENT
BEGIN:VEVENT
DTSTART;TZID=Europe/Paris:20260508T083000
DTEND;TZID=Europe/Paris:20260510T173000
DTSTAMP:20260423T145117
CREATED:20260127T205430Z
LAST-MODIFIED:20260301T160522Z
UID:23725-1778229000-1778434200@lyonchapterfrance.com
SUMMARY:Chambon Fromage II
DESCRIPTION:Un run\, que dis-je un run\, une éruption mécanique ! Road trip en Auvergne au pays des volcans \nRRC : Pierre Berthet / berthet.pierre2@orange.fr \n40 participants\nDistance : 785 km\nHébergement  : Hôtel L’Auberge de la petite ferme 63610 BESSE-ET-SAINT-ANASTAISE\nDivers : Visite du Puy de Dôme (jour 2)\nPrix : 289 € / personne\n \nClassement :
URL:https://lyonchapterfrance.com/savethedate/chambon-fromage/
LOCATION:A47 – Station BP Saint Romain-en-Gier
CATEGORIES:Sortie
END:VEVENT
BEGIN:VEVENT
DTSTART;TZID=Europe/Paris:20260522T083000
DTEND;TZID=Europe/Paris:20260525T173000
DTSTAMP:20260423T145117
CREATED:20260127T210535Z
LAST-MODIFIED:20260301T161450Z
UID:23734-1779438600-1779730200@lyonchapterfrance.com
SUMMARY:Les 25 ans du Paris West Chapter
DESCRIPTION:Le LCF participera au 25e anniversaire du Paris West Chapter qui se déroulera sous forme d’Inter-Chapter (week-end de la Pentecôte 2026). \nUn beau programme nous attend\, au delà des activités sur site\, accueil chez HD District 78\, un déjeuner en Bateaux-Mouches sur la Seine et la visite du Château de Vaux le Vicomte. \nRRC : Jean-François Brohet / jeanfrancoisbrohet@gmail.com \n20 participants\nDistance : 1000 km\nHébergement : Résidence Hôtelière à Dourdan (91)\nDivers : Prestations incluses (restauration & hébergement du vendredi soir au lundi matin) – Prévoir un pique nique pour le midi du vendredi 22/05. Le déjeuner du lundi 25/05/26 organisé par le LCF.\nPrix : 460 € / personne (hors repas lundi)\n \nClassement :
URL:https://lyonchapterfrance.com/savethedate/les-25-ans-du-paris-west-chapter/
LOCATION:Lieu de départ à venir
CATEGORIES:Sortie
END:VEVENT
BEGIN:VEVENT
DTSTART;TZID=Europe/Paris:20260523T080000
DTEND;TZID=Europe/Paris:20260525T173000
DTSTAMP:20260423T145117
CREATED:20260127T212441Z
LAST-MODIFIED:20260301T161844Z
UID:23755-1779523200-1779730200@lyonchapterfrance.com
SUMMARY:Faune et Flore
DESCRIPTION:Pour le plaisir des yeux et l’adrénaline du sauvage. \nRRC : Philippe PATAY / philippe.patay38@gmail.com \n40 participants\nDistance : 660 km\nHébergement : 2 nuits d’hôtel\nRestauration : 2 petits-déjeuners\, 3 repas midi\, 2 repas soir et 3 pause-café\nDivers : 3 entrées aux parcs (prendre un maillot de bain: hôtel avec piscine)\nPrix : 300 € / personne\n \nClassement :
URL:https://lyonchapterfrance.com/savethedate/faune-et-flore/
LOCATION:A7 Station Shell / Aire du Roussillon (14 kms après le péage)
CATEGORIES:Sortie
ORGANIZER;CN="Brigitte Grignon":MAILTO:brigittegri@live.fr
END:VEVENT
BEGIN:VEVENT
DTSTART;TZID=Europe/Paris:20260530T090000
DTEND;TZID=Europe/Paris:20260530T173000
DTSTAMP:20260423T145117
CREATED:20260127T210849Z
LAST-MODIFIED:20260301T155618Z
UID:23736-1780131600-1780162200@lyonchapterfrance.com
SUMMARY:La sortie des RRC
DESCRIPTION:Nos Rallye & Ride Coordinators s’occupent de la route. \nRRC : Jean-François Brohet / jeanfrancoisbrohet@gmail.com \n40 participants\nDistance : 250 km\nRestauration : Repas et pause café du matin compris\nDivers : SORTIE LE SAMEDI\nPrix : 28 € / personne\n \nClassement :
URL:https://lyonchapterfrance.com/savethedate/la-sortie-des-rrc/
LOCATION:A6 – Station Total / Aire de Paisy Dardilly
CATEGORIES:Sortie
END:VEVENT
BEGIN:VEVENT
DTSTART;TZID=Europe/Paris:20260605T183000
DTEND;TZID=Europe/Paris:20260605T233000
DTSTAMP:20260423T145117
CREATED:20260125T141751Z
LAST-MODIFIED:20260214T130744Z
UID:23692-1780684200-1780702200@lyonchapterfrance.com
SUMMARY:Réunion mensuelle
DESCRIPTION:L’ENTRE-NOUS \n5 Allée Moulin Berger\n69130 Ecully
URL:https://lyonchapterfrance.com/savethedate/reunion-mensuelle-23/
LOCATION:L’Entre-Nous\, 5 Allée Moulin Berger\, Ecully\, 69130
CATEGORIES:Réunion mensuelle
ATTACH;FMTTYPE=image/jpeg:https://lyonchapterfrance.com/wp-content/uploads/2026/02/IMG_20250912_185614-scaled.jpg
END:VEVENT
BEGIN:VEVENT
DTSTART;TZID=Europe/Paris:20260607T083000
DTEND;TZID=Europe/Paris:20260607T173000
DTSTAMP:20260423T145117
CREATED:20260127T204353Z
LAST-MODIFIED:20260326T183902Z
UID:23714-1780821000-1780853400@lyonchapterfrance.com
SUMMARY:Les Gendarmes en Balade…
DESCRIPTION:Cruchot\, Gerber et Berlicot vous emmènent en Chartreuse (pas à St Tropez). \nRRC : Dominique Riou / dominiqueriou@neuf.fr \n50 participants\nDistance : 307 km\nRestauration : Restaurant “O campus”\nDivers : Pause café comprise\nPrix : 30 € / personne\n \nClassement :
URL:https://lyonchapterfrance.com/savethedate/les-gendarmes-en-balade/
LOCATION:A43 – Aire de l’Isle-d’Abeau Sud / Station AVIA
CATEGORIES:Sortie
END:VEVENT
BEGIN:VEVENT
DTSTART;TZID=Europe/Paris:20260612T160000
DTEND;TZID=Europe/Paris:20260614T173000
DTSTAMP:20260423T145117
CREATED:20260127T212652Z
LAST-MODIFIED:20260301T164854Z
UID:23758-1781280000-1781458200@lyonchapterfrance.com
SUMMARY:Les Ladies du Soleil à la capitale des Gaules
DESCRIPTION:L’édition 2026 des Ladies du Soleil est organisée cette année par le Chapter de Lyon. Nous comptons sur vous pour participer à ce superbe week‑end\, du vendredi 12 juin (fin d’après‑midi) au dimanche 14 juin (fin de matinée). Cet événement a pour but de réunir toutes les Ladies pilotes ou non autour de notre passion commune. Nous espérons vous voir en grand nombre pour partager\, échanger et aider à faire de ce rassemblement une réussite.\n \nVoici le programme : Programme des Ladies du Soleil 2026 \nLe mail disponible pour toute question : ladiesdusoleil2026lyon@gmail.com \nRRC : Philippe PATAY / philippe.patay38@gmail.com\n120 places\n \nClassement :
URL:https://lyonchapterfrance.com/savethedate/les-ladies-du-soleil-a-la-capitale-des-gaules/
LOCATION:Hôtel Double Tree by Hilton 4* à Saint-Priest (A43)
CATEGORIES:Evènement
ATTACH;FMTTYPE=image/jpeg:https://lyonchapterfrance.com/wp-content/uploads/2026/02/Sans-titre-1-copie.jpg
ORGANIZER;CN="Emilie Devigne":MAILTO:bueno.emilie@wanadoo.fr
END:VEVENT
BEGIN:VEVENT
DTSTART;TZID=Europe/Paris:20260613T083000
DTEND;TZID=Europe/Paris:20260614T173000
DTSTAMP:20260423T145117
CREATED:20260127T211117Z
LAST-MODIFIED:20260127T211117Z
UID:23739-1781339400-1781458200@lyonchapterfrance.com
SUMMARY:Inter-Chapter Youngs
DESCRIPTION:Une belle rencontre des Youngs de la région. Plus de 40 ans…s’abstenir ! \nRRC : Jean-François Brohet / jeanfrancoisbrohet@gmail.com \nXX participants\nDistance : XX km\nRestauration : XX\nDivers : XX\nPrix : XX € / personne\n \nClassement :
URL:https://lyonchapterfrance.com/savethedate/inter-chapter-youngs/
LOCATION:Lieu de départ à venir
CATEGORIES:Sortie
ORGANIZER;CN="Alexandre Large":MAILTO:alexandre.large@laposte.net
END:VEVENT
BEGIN:VEVENT
DTSTART;VALUE=DATE:20260620
DTEND;VALUE=DATE:20260621
DTSTAMP:20260423T145117
CREATED:20260127T214651Z
LAST-MODIFIED:20260127T214651Z
UID:23782-1781913600-1781999999@lyonchapterfrance.com
SUMMARY:1/2 journée Sécu + Bikers solidaires sur le circuit du Centaure
DESCRIPTION:Un grand moment d’émotion à partager avec des enfants qui en ont tant besoin ! \n 
URL:https://lyonchapterfrance.com/savethedate/1-2-journee-secu-bikers-solidaires-sur-le-circuit-du-centaure-2/
LOCATION:Lieu de départ à venir
CATEGORIES:Caritatif
END:VEVENT
BEGIN:VEVENT
DTSTART;TZID=Europe/Paris:20260621T090000
DTEND;TZID=Europe/Paris:20260621T173000
DTSTAMP:20260423T145117
CREATED:20260127T205739Z
LAST-MODIFIED:20260127T205739Z
UID:23728-1782032400-1782063000@lyonchapterfrance.com
SUMMARY:La sortie du Dealer
DESCRIPTION:Quand le Dealer et le LCF organisent une journée mémorable.  \nRRC : Pierre Berthet / berthet.pierre2@orange.fr \nXX participants\nDistance : XXX km\nRestauration : XXX\nPrix : XX € / personne\n \nClassement :
URL:https://lyonchapterfrance.com/savethedate/la-sortie-du-dealer-2/
LOCATION:Lieu de départ à venir
CATEGORIES:Sortie
END:VEVENT
BEGIN:VEVENT
DTSTART;TZID=Europe/Paris:20260627T080000
DTEND;TZID=Europe/Paris:20260628T173000
DTSTAMP:20260423T145117
CREATED:20260127T204710Z
LAST-MODIFIED:20260326T183114Z
UID:23718-1782547200-1782667800@lyonchapterfrance.com
SUMMARY:A fond les hérissons !
DESCRIPTION:Attention ! Cette année ça va piquer… \nRRC : Dominique Riou / dominiqueriou@neuf.fr \n40 participants\nDistance : 760 km\nHébergement : Logis Hôtel 3*\nRestauration : All inclusive (cafés du matin\, repas & apéritif/vin dîner samedi\, hébergement).\nDivers : ATTENTION !! Cette sortie s’adresse à des pilotes confirmés et endurants.\nPrix : 166 € / personne\n \nClassement :
URL:https://lyonchapterfrance.com/savethedate/a-fond-les-herissons/
LOCATION:Station Shell Aire de Lyon Dagneux A42
CATEGORIES:Sortie
END:VEVENT
BEGIN:VEVENT
DTSTART;TZID=Europe/Paris:20260705T083000
DTEND;TZID=Europe/Paris:20260705T173000
DTSTAMP:20260423T145117
CREATED:20260127T211335Z
LAST-MODIFIED:20260127T211335Z
UID:23742-1783240200-1783272600@lyonchapterfrance.com
SUMMARY:Les 5 Départements du Nooooord !
DESCRIPTION:Allier\, allons Loire les embouteillages de la 7 par le Rhône\, l’Ain et la Saône et Loire. \nRRC : Jean-François Brohet / jeanfrancoisbrohet@gmail.com \nXX participants\nDistance : XX km\nRestauration : XX\nDivers : XX\nPrix : XX € / personne\n \nClassement :
URL:https://lyonchapterfrance.com/savethedate/les-5-departements-du-nooooord/
LOCATION:Lieu de départ à venir
CATEGORIES:Sortie
END:VEVENT
BEGIN:VEVENT
DTSTART;TZID=Europe/Paris:20260710T183000
DTEND;TZID=Europe/Paris:20260710T233000
DTSTAMP:20260423T145117
CREATED:20260125T141836Z
LAST-MODIFIED:20260214T130828Z
UID:23694-1783708200-1783726200@lyonchapterfrance.com
SUMMARY:Réunion mensuelle
DESCRIPTION:L’ENTRE-NOUS \n5 Allée Moulin Berger\n69130 Ecully
URL:https://lyonchapterfrance.com/savethedate/reunion-mensuelle-24/
LOCATION:L’Entre-Nous\, 5 Allée Moulin Berger\, Ecully\, 69130
CATEGORIES:Réunion mensuelle
ATTACH;FMTTYPE=image/jpeg:https://lyonchapterfrance.com/wp-content/uploads/2026/02/IMG_20250912_185614-scaled.jpg
END:VEVENT
BEGIN:VEVENT
DTSTART;TZID=Europe/Paris:20260711T083000
DTEND;TZID=Europe/Paris:20260714T173000
DTSTAMP:20260423T145117
CREATED:20260127T214213Z
LAST-MODIFIED:20260127T214213Z
UID:23778-1783758600-1784050200@lyonchapterfrance.com
SUMMARY:HOG - Morzine-Avoriaz Harley Days
DESCRIPTION:Ce sera un plaisir de s’y retrouver. \n 
URL:https://lyonchapterfrance.com/savethedate/hog-morzine-avoriaz-harley-days/
LOCATION:Lieu de départ à venir
CATEGORIES:Evènement
END:VEVENT
BEGIN:VEVENT
DTSTART;TZID=Europe/Paris:20260718T090000
DTEND;TZID=Europe/Paris:20260719T173000
DTSTAMP:20260423T145117
CREATED:20260127T212900Z
LAST-MODIFIED:20260127T212900Z
UID:23760-1784365200-1784482200@lyonchapterfrance.com
SUMMARY:La Summer Ride
DESCRIPTION:Plaisir entre copains sous un soleil tapant l’asphalte. \nRRC : Philippe PATAY / philippe.patay38@gmail.com \nXX participants\nDistance : XX km\nRestauration : XX\nPrix : XX € / personne\n \nClassement :
URL:https://lyonchapterfrance.com/savethedate/la-summer-ride/
LOCATION:Lieu de départ à venir
CATEGORIES:Sortie
END:VEVENT
BEGIN:VEVENT
DTSTART;TZID=Europe/Paris:20260830T083000
DTEND;TZID=Europe/Paris:20260830T173000
DTSTAMP:20260423T145117
CREATED:20260127T204936Z
LAST-MODIFIED:20260127T204936Z
UID:23720-1788078600-1788111000@lyonchapterfrance.com
SUMMARY:Motor'Art
DESCRIPTION:Immersion colorée en Chartreuse. \nRRC : Dominique Riou / dominiqueriou@neuf.fr \nXX participants\nDistance : XXX km\nHébergement : XXX\nRestauration : XXX\nDivers : XXX\nPrix : XX € / personne\n \nClassement :
URL:https://lyonchapterfrance.com/savethedate/motorart/
LOCATION:Lieu de départ à venir
CATEGORIES:Sortie
ORGANIZER;CN="Fred et Francis CUNY":MAILTO:francis.cuny@gmail.com
END:VEVENT
BEGIN:VEVENT
DTSTART;TZID=Europe/Paris:20260905T083000
DTEND;TZID=Europe/Paris:20260906T173000
DTSTAMP:20260423T145117
CREATED:20260127T211525Z
LAST-MODIFIED:20260301T162342Z
UID:23745-1788597000-1788715800@lyonchapterfrance.com
SUMMARY:L'Auvergne Rhône Alpes II
DESCRIPTION:Les retrouvailles de 7 Chapters de la région pour parcourir la Bourgogne. \nRRC : Jean-François Brohet / jeanfrancoisbrohet@gmail.com \n45 participants\nDistance : 615 km\nRestauration : Pause-café\, déjeuners & diner inclus\nHébergement : LES VOILES DE LAIVES\nDivers : 200 membres pour l’ensemble des Chapters et pleins de belles surprises\nPrix : 161 € / personne\n \nClassement :
URL:https://lyonchapterfrance.com/savethedate/lauvergne-rhone-alpes-ii/
LOCATION:A6 – Station Total / Aire de Paisy Dardilly
CATEGORIES:Sortie
END:VEVENT
BEGIN:VEVENT
DTSTART;TZID=Europe/Paris:20260911T183000
DTEND;TZID=Europe/Paris:20260911T233000
DTSTAMP:20260423T145117
CREATED:20260125T141921Z
LAST-MODIFIED:20260214T130905Z
UID:23696-1789151400-1789169400@lyonchapterfrance.com
SUMMARY:Réunion mensuelle
DESCRIPTION:L’ENTRE-NOUS \n5 Allée Moulin Berger\n69130 Ecully
URL:https://lyonchapterfrance.com/savethedate/reunion-mensuelle-25/
LOCATION:L’Entre-Nous\, 5 Allée Moulin Berger\, Ecully\, 69130
CATEGORIES:Réunion mensuelle
ATTACH;FMTTYPE=image/jpeg:https://lyonchapterfrance.com/wp-content/uploads/2026/02/IMG_20250912_185614-scaled.jpg
END:VEVENT
BEGIN:VEVENT
DTSTART;TZID=Europe/Paris:20260913T083000
DTEND;TZID=Europe/Paris:20260913T173000
DTSTAMP:20260423T145117
CREATED:20260127T205138Z
LAST-MODIFIED:20260127T205138Z
UID:23723-1789288200-1789320600@lyonchapterfrance.com
SUMMARY:Regarder d’en haut
DESCRIPTION:Et pourquoi pas le Jura !!! \nRRC : Dominique Riou / dominiqueriou@neuf.fr \nXX participants\nDistance : XXX km\nHébergement : XXX\nRestauration : XXX\nDivers : XXX\nPrix : XX € / personne\n \nClassement :
URL:https://lyonchapterfrance.com/savethedate/regarder-den-haut/
LOCATION:Lieu de départ à venir
CATEGORIES:Sortie
END:VEVENT
BEGIN:VEVENT
DTSTART;TZID=Europe/Paris:20260919T090000
DTEND;TZID=Europe/Paris:20260920T173000
DTSTAMP:20260423T145117
CREATED:20260127T213042Z
LAST-MODIFIED:20260127T213114Z
UID:23762-1789808400-1789925400@lyonchapterfrance.com
SUMMARY:Y a pas le feu au lac !
DESCRIPTION:Par monts et par vaux\, au Léman nous irons\, l’edelweiss au guidon. \nRRC : Philippe PATAY / philippe.patay38@gmail.com \nXX participants\nDistance : XX km\nRestauration : XX\nPrix : XX € / personne\n \nClassement :
URL:https://lyonchapterfrance.com/savethedate/y-a-pas-le-feu-au-lac/
LOCATION:Lieu de départ à venir
CATEGORIES:Sortie
END:VEVENT
BEGIN:VEVENT
DTSTART;TZID=Europe/Paris:20260925T080000
DTEND;TZID=Europe/Paris:20260928T170000
DTSTAMP:20260423T145117
CREATED:20260127T214919Z
LAST-MODIFIED:20260127T214919Z
UID:23784-1790323200-1790614800@lyonchapterfrance.com
SUMMARY:Late Summer Days à St Cyprien avec le Chapter de Perpignan
DESCRIPTION:En route vers le soleil\, la mer et… le vent !
URL:https://lyonchapterfrance.com/savethedate/late-summer-days-a-st-cyprien-avec-le-chapter-de-perpignan-2/
LOCATION:Lieu de départ à venir
END:VEVENT
BEGIN:VEVENT
DTSTART;TZID=Europe/Paris:20260926T083000
DTEND;TZID=Europe/Paris:20260927T173000
DTSTAMP:20260423T145117
CREATED:20260127T211730Z
LAST-MODIFIED:20260127T211730Z
UID:23748-1790411400-1790530200@lyonchapterfrance.com
SUMMARY:Lochon and South Chapters
DESCRIPTION:Les Chapters du Sud viennent nous retrouver à Lyon. \nRRC : Jean-François Brohet / jeanfrancoisbrohet@gmail.com \nXX participants\nDistance : XX km\nRestauration : XX\nDivers : XX\nPrix : XX € / personne\n \nClassement :
URL:https://lyonchapterfrance.com/savethedate/lochon-and-south-chapters/
LOCATION:Lieu de départ à venir
CATEGORIES:Sortie
END:VEVENT
BEGIN:VEVENT
DTSTART;TZID=Europe/Paris:20261003T090000
DTEND;TZID=Europe/Paris:20261004T173000
DTSTAMP:20260423T145117
CREATED:20260127T210003Z
LAST-MODIFIED:20260127T210003Z
UID:23730-1791018000-1791135000@lyonchapterfrance.com
SUMMARY:Direction l’Ordre des Chaptreux
DESCRIPTION:« Stat Capitulum dum volvitur orbis »  \nRRC : Pierre Berthet / berthet.pierre2@orange.fr \nXX participants\nDistance : XXX km\nRestauration : XXX\nPrix : XX € / personne\n \nClassement :
URL:https://lyonchapterfrance.com/savethedate/direction-lordre-des-chaptreux/
LOCATION:Lieu de départ à venir
CATEGORIES:Sortie
END:VEVENT
BEGIN:VEVENT
DTSTART;TZID=Europe/Paris:20261009T183000
DTEND;TZID=Europe/Paris:20261009T233000
DTSTAMP:20260423T145117
CREATED:20260125T142006Z
LAST-MODIFIED:20260214T130937Z
UID:23698-1791570600-1791588600@lyonchapterfrance.com
SUMMARY:Réunion mensuelle
DESCRIPTION:L’ENTRE-NOUS \n5 Allée Moulin Berger\n69130 Ecully
URL:https://lyonchapterfrance.com/savethedate/reunion-mensuelle-26/
LOCATION:L’Entre-Nous\, 5 Allée Moulin Berger\, Ecully\, 69130
CATEGORIES:Réunion mensuelle
ATTACH;FMTTYPE=image/jpeg:https://lyonchapterfrance.com/wp-content/uploads/2026/02/IMG_20250912_185614-scaled.jpg
END:VEVENT
BEGIN:VEVENT
DTSTART;TZID=Europe/Paris:20261010T133000
DTEND;TZID=Europe/Paris:20261010T173000
DTSTAMP:20260423T145117
CREATED:20260127T214459Z
LAST-MODIFIED:20260127T214718Z
UID:23780-1791639000-1791653400@lyonchapterfrance.com
SUMMARY:Bikers solidaires au Parc de Parilly
DESCRIPTION:Avec les résidents des Foyers Adapei : \nun grand moment de partage et de bonheur.
URL:https://lyonchapterfrance.com/savethedate/bikers-solidaires-au-parc-de-parilly/
LOCATION:Parc de Parilly
CATEGORIES:Caritatif
END:VEVENT
BEGIN:VEVENT
DTSTART;TZID=Europe/Paris:20261011T090000
DTEND;TZID=Europe/Paris:20261011T173000
DTSTAMP:20260423T145117
CREATED:20260127T210217Z
LAST-MODIFIED:20260127T210217Z
UID:23732-1791709200-1791739800@lyonchapterfrance.com
SUMMARY:La Gil'Alain
DESCRIPTION:La mémoire\, une tradition au Chapter qui perdure ! \nRRC : Pierre Berthet / berthet.pierre2@orange.fr \nXX participants\nDistance : XXX km\nRestauration : XXX\nPrix : XX € / personne\n \nClassement :
URL:https://lyonchapterfrance.com/savethedate/la-gilalain-2/
LOCATION:Lieu de départ à venir
CATEGORIES:Sortie
END:VEVENT
END:VCALENDAR